
BEGIN:VCALENDAR
VERSION:2.0
PRODID:-//CABUWAZI - ECPv4.9.9.1//NONSGML v1.0//EN
CALSCALE:GREGORIAN
METHOD:PUBLISH
X-WR-CALNAME:CABUWAZI
X-ORIGINAL-URL:https://cabuwazi.de
X-WR-CALDESC:Veranstaltungen für CABUWAZI
BEGIN:VTIMEZONE
TZID:Europe/Berlin
BEGIN:DAYLIGHT
TZOFFSETFROM:+0100
TZOFFSETTO:+0200
TZNAME:CEST
DTSTART:20260329T010000
END:DAYLIGHT
BEGIN:STANDARD
TZOFFSETFROM:+0200
TZOFFSETTO:+0100
TZNAME:CET
DTSTART:20261025T010000
END:STANDARD
END:VTIMEZONE
BEGIN:VEVENT
DTSTART;TZID=Europe/Berlin:20260703T090000
DTEND;TZID=Europe/Berlin:20260705T161500
DTSTAMP:20260423T160131
CREATED:20251119T111848Z
LAST-MODIFIED:20260422T133926Z
UID:462080-1783069200-1783268100@cabuwazi.de
SUMMARY:Circus Akademie Workshop: Jonglage Vertiefung
DESCRIPTION:Voraussetzung für die Teilnahme: Drei Objekte jonglieren mit Variationen.\nDie Workshops der Circus Akademie Berlin richten sich an Profis und (angehende) Zirkuspädagog:innen und Zirkustrainer:innen mit und ohne Erfahrung. Teilnahme ab 18 Jahre. \nDas Genre der Objektmanipulation bietet eine große Auswahl an unterschiedlichen Requisiten und dient der Förderung kognitiver Fähigkeiten. Dazu gehören u.a. Konzentrationsfähigkeit\, Koordination\, Reaktionsschnelligkeit und Rhythmusgefühl. \nDen Teilnehmer:innen werden Möglichkeiten aufgezeigt\, Kinder und Jugendliche mit den Requisiten kreativ und sportlich zu beschäftigen.\nNeben den verschiedenen Jongliermustern mit bis zu fünf Bällen\, Ringen oder Keulen werden bei der Kontaktjonglage spielerische und tänzerische Verbindungen zu den Requisiten aufgebaut. \nInhalte \n– Training der Hand-Auge-Koordination\n– Schulung von Konzentration\, Haltung und Körpergefühl\n– Methode zur Verbesserung der Frustrationstoleranz\n– Fehleranalyse\n– Ball\, Keulen\, Ringe Jonglage\n– Technik und Musterbeispiele: Kaskade- Rückwärtskaskade\, Shower\, Flash\, Box\n– Rhythmusarbeit\n– Partner- und Gruppen Jonglage Beispiele: Plündervarianten\, Kreis-\, Kreuz-\, Reihen-Passing\n– Keulenswinging\, Keulenmanipulation\n– Kontaktjonglage: Ball\n– Materialkunde \nTermine:\n03.07.2026 – 05.07.2026\nFr.: 09.00 – 16.15 Uhr\nSa. & So.: 10.00 – 17.15 Uhr \nDauer/Umfang:\n3 Termine à 7\,25 Stunden \nDer Workshop findet am Standort CABUWAZI Tempelhof im Rahmen der Weiterbildung Zirkustrainer:in Vertiefung statt. \nDozent:\nFelix Häckell \nSpare mit dem Frühbuchendenrabatt bis zum 01.06.2026. \n
URL:https://cabuwazi.de/event/circus-akademie-workshop-jonglage-vertiefung/
LOCATION:Tempelhof\, Columbiadamm 84\, Berlin\, 10965\, Deutschland
CATEGORIES:Circus Akademie Berlin
ATTACH;FMTTYPE=image/jpeg:https://cabuwazi.de/wp-content/uploads/2019/06/juggle-1.jpg
END:VEVENT
END:VCALENDAR