
BEGIN:VCALENDAR
VERSION:2.0
PRODID:-//CABUWAZI - ECPv4.9.9.1//NONSGML v1.0//EN
CALSCALE:GREGORIAN
METHOD:PUBLISH
X-WR-CALNAME:CABUWAZI
X-ORIGINAL-URL:https://cabuwazi.de
X-WR-CALDESC:Veranstaltungen für CABUWAZI
BEGIN:VTIMEZONE
TZID:Europe/Berlin
BEGIN:DAYLIGHT
TZOFFSETFROM:+0100
TZOFFSETTO:+0200
TZNAME:CEST
DTSTART:20260329T010000
END:DAYLIGHT
BEGIN:STANDARD
TZOFFSETFROM:+0200
TZOFFSETTO:+0100
TZNAME:CET
DTSTART:20261025T010000
END:STANDARD
END:VTIMEZONE
BEGIN:VEVENT
DTSTART;TZID=Europe/Berlin:20260810T100000
DTEND;TZID=Europe/Berlin:20260814T160000
DTSTAMP:20260420T165152
CREATED:20251216T113004Z
LAST-MODIFIED:20260410T130507Z
UID:474802-1786356000-1786723200@cabuwazi.de
SUMMARY:Zirkusferien Altglienicke Sommer Woche 5
DESCRIPTION:Aktualisierter Buchungsstart:\nWir arbeiten gerade auf Hochtouren an einer neuen CABUWAZI-Website und damit auch an der Verbesserung unseres Buchungsprozesses. Aus organisatorischen Gründen verschiebt sich dadurch der Buchungsstart für die Sommerferien auf den 11. Mai 2026! Zudem haben unsere Standorte teilweise ihre Plätze erhöht\, damit möglichst jedes Kind in der gewünschten Woche in den Sommerferien dabei sein kann. \n  \nIm CABUWAZI Altglienicke werden in der Regel drei bis vier Disziplinen pro Ferienwoche angeboten\, wie zum Beispiel Kugellaufen\, Jonglieren\, Trampolinspringen\, Trapez\, Tuch\, Clownerie\, Akrobatik oder Seillaufen. \nDas Training findet von Montag bis Freitag jeweils von 10 bis 16 Uhr statt. \nNach fünf Tagen Zirkustraining präsentiert ihr freitags eure eigene Zirkusshow vor staunendem Publikum. \nFünf Tage Workshop kosten inklusive warmem Mittagessen regulär 259 €. \nInformationen zur neuen Preisgestaltung:\nLeider müssen wir unsere Preise für die Zirkusferien anpassen. Daher können wir auch das Sauseschritt-Sparticket nicht mehr anbieten. Diese Entscheidung ist uns nicht leichtgefallen\, ist aber notwendig\, um unsere Angebote weiterhin in gewohnter Qualität anbieten zu können. \nWir bemühen uns weiterhin\, allen Familien\, unabhängig vom Einkommen\, den Besuch unserer Zirkusferien zu ermöglichen. Ermäßigungen sind nun jedoch nur noch für Kinder und Familien mit Berechtigungsnachweis möglich. \nErmäßigte Plätze:\nWenn du einen Berechtigungsnachweis (früher Berlinpass) besitzt\, kannst du diesen bereits vor Buchungsbeginn an programm@cabuwazi.de senden. Nach Prüfung erhältst du einen Gutscheincode\, mit dem du ab Buchungsstart einen ermäßigten Platz für  219 € buchen kannst.\nBitte beachte: Die Anzahl der ermäßigten Plätze pro Ferienwoche ist begrenzt. \nHinweise an die Eltern:\nDie Zirkusferien sind für alle Kinder ab 7 Jahre. Die Kinder müssen zu Beginn ihrer Zirkusferien bereits 7 Jahre alt sein oder in ihrer Ferienwoche 7 Jahre alt werden.\nSollte dein Kind einen erhöhten Betreuungsbedarf oder besondere Ernährungsbedürfnisse haben\, kontaktiere uns bitte vor der Buchung. Gemeinsam können wir Details besprechen und eventuell nötige Vorbereitungen treffen. \n
URL:https://cabuwazi.de/event/zirkusferien-altglienicke-sommer-woche-5-7/
LOCATION:Altglienicke\, Venusstraße 90\, Berlin\, 12524\, Deutschland
CATEGORIES:Zirkusferien
ATTACH;FMTTYPE=image/jpeg:https://cabuwazi.de/wp-content/uploads/2020/07/CABUWAZI-Altglienicke-offenes-training-balance-foto-von-thomas-kierok-1.jpg
END:VEVENT
END:VCALENDAR